BEGIN:VCALENDAR
BEGIN:VEVENT
DESCRIPTION:Rufus Sewell, Jodhi May, Polly Walker, Tony Haygarth, Emily Woof, Cal Macaninch, Phil Agland, Walter Sparrow, Sheila Burrell, Amanda Ryan, 
SUMMARY:The Woodlanders (1997)
DTSTART:20260427T110000
DTEND:20260427T125500
LOCATION:Film4
END:VEVENT
END:VCALENDAR