BEGIN:VCALENDAR
BEGIN:VEVENT
DESCRIPTION:Richard Laxton, John Bowe, Mel Martin, Michael Attwell, Ioan Gruffudd, Kelly Reilly, Nicholas Gleaves, Hans Matheson, 
SUMMARY:Poldark (1996)
DTSTART:20260424T110000
DTEND:20260424T130500
LOCATION:Talking Pictures TV
END:VEVENT
END:VCALENDAR