BEGIN:VCALENDAR
BEGIN:VEVENT
DESCRIPTION:Robert Duvall, Kevin Costner, Annette Bening, Michael Gambon, Michael Jeter, Diego Luna, James Russo, Abraham Benrubi, Dean McDermott, Kim Coates, Kevin Costner, Kevin Costner, Jake Eberts, David Valdes, Herb Kohler, Peter MacNeill, Cliff Saunders, Patricia Stutz, Julian Richings, 
SUMMARY:Open Range (2003)
DTSTART:20260426T220500
DTEND:20260426T235000
LOCATION:5ACTION
END:VEVENT
END:VCALENDAR