BEGIN:VCALENDAR
BEGIN:VEVENT
DESCRIPTION:Steven Seagal, Steve Austin, Michael Paré, Ian Robison, Aliyah O&#39;Brien, Steph Song, Michael Adamthwaite, Bren Foster, Keoni Waxman, 
SUMMARY:Maximum Conviction (2012)
DTSTART:20260426T210000
DTEND:20260426T231000
LOCATION:Great Action
END:VEVENT
END:VCALENDAR