BEGIN:VCALENDAR
BEGIN:VEVENT
DESCRIPTION:Tyrone Power USMCR [Tyrone Power], Anne Baxter, Dana Andrews, James Gleason, Dame May Whitty, Henry Morgan [Harry Morgan], Ben Carter, Charles Tannen, Frank Conroy, Florence Lake, John Archer, George Holmes, Archie Mayo, Tyrone Power, May Whitty, Henry Morgan, Tyrone Power USMCR, Harry Morgan, Darryl F Zanuck, Milton Sperling, Stanley Andrews, Gene Rizzi, Frederic Brunn, 
SUMMARY:Crash Dive (1943)
DTSTART:20260429T110000
DTEND:20260429T131000
LOCATION:Film4
END:VEVENT
END:VCALENDAR