BEGIN:VCALENDAR
BEGIN:VEVENT
DESCRIPTION:Kenneth More, Muriel Pavlow, Lyndon Brook, Lee Patterson, Alexander Knox, Dorothy Alison, Michael Warre, Sydney Tafler, Howard Marion-Crawford, Jack Watling, Nigel Green, Anne Leon, Ronald Adam, Lewis Gilbert, Lyndon Brooke, Daniel M. Angel, Charles Carson, Walter Hudd, Basil Appleby, Philip Stainton, Eddie Byrne, Beverley Brooks, Michael Ripper, Derek Blomfield, Avice Landone, Eric Pohlmann, Michael Gough, Harry Locke, Sam Kydd, Ernest Clark, 
SUMMARY:Reach for the Sky (1956)
DTSTART:20260425T163000
DTEND:20260425T190000
LOCATION:Talking Pictures TV
END:VEVENT
END:VCALENDAR