BEGIN:VCALENDAR
BEGIN:VEVENT
DESCRIPTION:Roger Moore, Christopher Walken, Tanya Roberts, Grace Jones, Patrick Macnee, Fiona Fullerton, John Glen, Patrick Bauchau, David Yip, Manning Redwood, Alison Doody, Willoughby Gray, Desmond Llewelyn, Robert Brown, Lois Maxwell, Walter Gotell, Albert R. Broccoli, Tom Pevsner, Michael G Wilson, Geoffrey Keen, Jean Rougerie, Daniel Benzali, Papillon Soo, Mary Stavin, 
SUMMARY:A View to a Kill (1985)
DTSTART:20260426T201000
DTEND:20260426T214500
LOCATION:ITV4
END:VEVENT
END:VCALENDAR