BEGIN:VCALENDAR
BEGIN:VEVENT
DESCRIPTION:Jeff Bridges, Rosanna Arquette, Alexandra Paul, Randy Brooks, Andy Garcia, Lisa Sloan, Christa Denton, Vance Valencia, Wilfredo Hernandez, Luisa Leschin, Vyto Rugins, Chip Arnold, Hal Ashby, 
SUMMARY:8 Million Ways to Die (1986)
DTSTART:20260427T010500
DTEND:20260427T032000
LOCATION:Legend
END:VEVENT
END:VCALENDAR