BEGIN:VCALENDAR
BEGIN:VEVENT
DESCRIPTION:Thomas Turgoose, Stephen Graham, Joseph Gilgun, Shane Meadows, Jo Hartley, Andrew Shim, Vicky McClure, Joe Gilgun, Rosamund Hanson, Andrew Ellis, Perry Benson, George Newton, Frank Harper, Jack O&#39;Connell, Peter Carlton, Will Clarke, Lizzie Francke, Hugo Heppell, Mark Herbert, Kate Ogborn, Tessa Ross, Paul Trijbits, Michael Socha, Danielle Watson, Chanel Cresswell, Kriss Dosanjh, Kieran Hardcastle, 
SUMMARY:This Is England (2006)
DTSTART:20260430T232500
DTEND:20260501T013000
LOCATION:Film4
END:VEVENT
END:VCALENDAR