BEGIN:VCALENDAR
BEGIN:VEVENT
DESCRIPTION:Kevin Costner, Sean Connery, Andy Garcia, Robert De Niro, Charles Martin Smith, Richard Bradford, Jack Kehoe, Brad Sullivan, Billy Drago, Patricia Clarkson, Brian De Palma, 
SUMMARY:The Untouchables (1987)
DTSTART:20260426T220000
DTEND:20260426T235500
LOCATION:BBC2
END:VEVENT
END:VCALENDAR