BEGIN:VCALENDAR
BEGIN:VEVENT
DESCRIPTION:Adam Wingard, Keith Calder, Jessica Wu, Bruce Wayne Gillies, Chris Harding, Dan Stevens, Maika Monroe, Sheila Kelley, Ethan Embry, Joel David Moore, Leland Orser, Brendan Meyer, Tabatha Shaun, Lance Reddick, AJ Bowen, Candice Patton, 
SUMMARY:The Guest (2014)
DTSTART:20260426T013500
DTEND:20260426T033000
LOCATION:Legend
END:VEVENT
END:VCALENDAR