BEGIN:VCALENDAR
BEGIN:VEVENT
DESCRIPTION:Tyrone Power, Henry Fonda, Nancy Kelly, Randolph Scott, Henry Hull, Brian Donlevy, Henry King, John Carradine, Jane Darwell, Donald Meek, Slim Summerville, Irving Cummings, 
SUMMARY:Jesse James (1939)
DTSTART:20260426T094000
DTEND:20260426T120000
LOCATION:Great Action
END:VEVENT
END:VCALENDAR