BEGIN:VCALENDAR
BEGIN:VEVENT
DESCRIPTION:Sandra Dorne, Leslie Dwyer, Maxwell Reed, Vida Hope, Ferdy Mayne, Kenneth Connor, Wolf Rilla, 
SUMMARY:Marilyn (1953)
DTSTART:20260426T113000
DTEND:20260426T125000
LOCATION:Talking Pictures TV
END:VEVENT
END:VCALENDAR