BEGIN:VCALENDAR
BEGIN:VEVENT
DESCRIPTION:Barbara Stanwyck, Barry Sullivan, Dean Jagger, John Ericson, Gene Barry, Robert Dix, Samuel Fuller, Jack &quot;Jidge&quot; Carroll, Gerald Milton, Eve Brent, Ziva Rodann, Barry O&#39;Sullivan, Jidge Carroll, Paul Dubov, Samuel Fuller, Hank Worden, 
SUMMARY:Forty Guns (1957)
DTSTART:20260427T125500
DTEND:20260427T143500
LOCATION:Film4
END:VEVENT
END:VCALENDAR