BEGIN:VCALENDAR
BEGIN:VEVENT
DESCRIPTION:John Wayne, Paul Kelly, John Carroll, Anna Lee, Mae Clarke, Edmund MacDonald, David Miller, Paul Kelly (1), Gordon Jones, Addison Richards, Bill Shirley, Tom Neal, Malcolm &quot;Bud&quot; McTaggart, David Bruce, Edmund Grainger, 
SUMMARY:Flying Tigers (1942)
DTSTART:20260422T130000
DTEND:20260422T150000
LOCATION:Legend
END:VEVENT
END:VCALENDAR