BEGIN:VCALENDAR
BEGIN:VEVENT
DESCRIPTION:Will Smith, Gene Hackman, Jon Voight, Lisa Bonet, Regina King, Stuart Wilson (1), Laura Cayouette, Loren Dean, Barry Pepper, Ian Hart, Jake Busey, Scott Caan, Jason Lee, Gabriel Byrne, James LeGros, Dan Butler, Jason Robards, Tom Sizemore, Tony Scott, Jack Black, Jamie Kennedy, Grant Heslov, Seth Green, Philip Baker Hall, Stuart Wilson, 
SUMMARY:Enemy of the State (1998)
DTSTART:20260425T221000
DTEND:20260425T234000
LOCATION:5*
END:VEVENT
END:VCALENDAR