BEGIN:VCALENDAR
BEGIN:VEVENT
DESCRIPTION:Timothy Dalton, Jeroen Krabbé, Maryam d&#39;Abo, Joe Don Baker, John Rhys-Davies, Art Malik, John Glen, Andreas Wisniewski, Thomas Wheatley, Desmond Llewelyn, Robert Brown, Geoffrey Keen, Walter Gotell, Caroline Bliss, John Terry, Mario d&#39;Alba, Albert R. Broccoli, Tom Pevsner, Michael G Wilson, Barbara Broccoli, Virginia Hey, Julie T Wallace, Bill Weston, Nadim Sawalha, Barbara Broccoli, John Bowe, Belle Avery, Catherine Rabett, Dulice Liecier, Alan Talbot, Carl Rigg, Tony Cyrus, Atik Mohamed, Michael Moor, Sumar Khan, Ken Sharrock, Peter Porteous, Antony Carrick, Frederick Warder, Glyn Baker, Scott Hoxby, Richard Cubison, Heinz Winter, Leslie French, Odette Benatar, Dianna Casale, Sharon Devlin, Femi Gardiner, Patricia Keefer, Ruddy Rodriguez, Mayte Sánchez, Cela Savannah, Karen Seeberg, Waris Dirie, Karen Williams, 
SUMMARY:The Living Daylights (1987)
DTSTART:20260429T220500
DTEND:20260429T234000
LOCATION:ITV4
END:VEVENT
END:VCALENDAR