BEGIN:VCALENDAR
BEGIN:VEVENT
DESCRIPTION:Brian Cox, Joseph Fiennes, Liam Cunningham, Seu Jorge, Dominic Cooper, Steven Mackintosh, Damian Lewis, Bernadette McKenna, Eleanor McLynn, Phelim Drew, Rupert Wyatt, Vincent McCabe, 
SUMMARY:The Escapist (2007)
DTSTART:20260424T012000
DTEND:20260424T032000
LOCATION:Legend
END:VEVENT
END:VCALENDAR