BEGIN:VCALENDAR
BEGIN:VEVENT
DESCRIPTION:Matt Damon, Emily Blunt, Terence Stamp, Anthony Mackie, John Slattery, Michael Kelly, Anthony Ruivivar, Johnny Cicco, George Nolfi, Bill Carraro, Michael Hackett, Chris Moore, George Nolfi, Michael Bederman, Eric Kripke, Joel Viertel, Isa Dick Hackett, Jonathan Gordon, Glenn Allen, Renuka Ballal, Cara Buckley, Richard Friedlander, Lauren Ritchie, Lauren Hodges, Shane McRae, Lisa Thoreson, Florence Kastriner, Natalie Carter, Phyllis MacBryde, Chuck Scarborough, Jon Stewart, Kar, RJ Konner, Susan D. Michaels, Gregory P. Hitchen, Amanda Warren, Jessica Lee Keller, 
SUMMARY:The Adjustment Bureau (2010)
DTSTART:20260426T185500
DTEND:20260426T210000
LOCATION:Film4
END:VEVENT
END:VCALENDAR