BEGIN:VCALENDAR
BEGIN:VEVENT
DESCRIPTION:Nathan H. Juran, Janette Scott, Ronald Lewis, Ronald Howard, Mark Dignam, John Laurie, Jerome Willis, John Gabriel, 
SUMMARY:Siege of the Saxons (1963)
DTSTART:20260501T110000
DTEND:20260501T124500
LOCATION:Film4
END:VEVENT
END:VCALENDAR