BEGIN:VCALENDAR
BEGIN:VEVENT
DESCRIPTION:Simon Pegg, Kate Ashfield, Nick Frost, Lucy Davis, Edgar Wright, Dylan Moran, Penelope Wilton, Bill Nighy, Jessica Stevenson, Tamsin Greig, Reece Shearsmith, Matt Lucas, Martin Freeman, Julia Deakin, Peter Serafinowicz, Jessica Hynes, Nira Park, Tim Bevan, Eric Fellner, Rafe Spall, Steve Emerson, Nicola Cunningham, Arvind Doshi, Stuart Powell, Chris Martin, 
SUMMARY:Shaun Of The Dead (2004)
DTSTART:20260426T221500
DTEND:20260427T001000
LOCATION:ITV1
END:VEVENT
END:VCALENDAR