BEGIN:VCALENDAR
BEGIN:VEVENT
DESCRIPTION:Hugh Grant, Andie MacDowell, Kristin Scott Thomas, Simon Callow, David Bower, John Hannah, Mike Newell, Ed Harris, James Fleet, Charlotte Coleman, Corin Redgrave, Rowan Atkinson, Anna Chancellor, Timothy Walker, Sara Crowe, Ronald Herdman, Elspet Gray, Philip Voss, Rupert Vansittart, Nicola Walker, Paul Stacey, Simon Kunz, Robin McCaffrey, Michael Mears, Kenneth Griffith, David Haig, Sophie Thompson, Donald Weedon, Nigel Hastings, Emily Morgan, Amanda Mealing, Robert Lang, Jeremy Kemp, Rosalie Crutchley, 
SUMMARY:Four Weddings and a Funeral (1994)
DTSTART:20260421T224000
DTEND:20260422T003000
LOCATION:BBC1
END:VEVENT
END:VCALENDAR